BEGIN:VCALENDAR
VERSION:2.0
PRODID:Events Booking
BEGIN:VEVENT
UID:69ea067e5ff4c
SUMMARY:PEDALANDO VERSO L'AVVENIRE - passeggiata tra le memorie delle donne
  di Savignano
DESCRIPTION:Nel primo giorno del mese di maggio\, in occasione dell'inaugur
 azione della mostra Sui pedali\, a cura di Centro Documentazione donna di 
 Modena e Istituto storico della Resistenza di Modena\,&nbsp\;Etcetera vi p
 orta in un itinerario nel borgo che celebra le donne di Savignano\, la lor
 o attività e indipendenza\, la difesa dei diritti e l’impegno costante 
 per la comunità.&nbsp\;
LOCATION:Piazza Zanantoni\, 13 - Savignano s/P (MO)
DTSTART:20260501T170000Z
DTSTAMP:20250910T093642Z
ORGANIZER;CN=Etcetera... e via andando:MAILTO:eventi@etceteralab.it
GEO:44.478221;11.038739
X-APPLE-STRUCTURED-LOCATION;VALUE=URI;X-ADDRESS=Piazza Zanantoni\, 13 - Sav
 ignano s/P (MO);X-APPLE-RADIUS=72;X-TITLE=Borgo Castello di Savignano s/P:
 44.478221;11.038739
END:VEVENT
END:VCALENDAR